BEGIN:VCALENDAR
VERSION:2.0
PRODID:-//Tukios.com/
BEGIN:VEVENT
UID:d3b89c41-586b-44ad-8ab1-b3eeb5c6eb71@www.crestviewfh.com
DTSTAMP:20260421T205026Z
DTSTART:20260509T190000Z
DTEND:20260509T200000Z
SUMMARY:Graveside Service
DESCRIPTION:
URL:https://www.crestviewfh.com/obituaries/tammy-schutter-poteet
LOCATION: 420 Albert Gallatin Ave  Gallatin TN 37066
GEO:36.405829;-86.4313442
END:VEVENT
END:VCALENDAR